BEGIN:VCALENDAR
VERSION:2.0
PRODID:-//Library Market//iCal Export//EN
BEGIN:VEVENT
SUMMARY:Dino Documentary!
UID:6243
DTSTAMP:20260423T200800Z
DTSTART:20260629T160000Z
DTEND:20260629T170000Z
LOCATION:Baldwin Borough Public Library, 5230 Wolfe Dr, Pittsburgh, PA 152
 36, United States
ROOM: Dino Documentary!
DESCRIPTION:Get ready for dino-mite Mondays at the Baldwin Library! Each w
 eek during Summer Reading, we&#039;ll be screening a dinosaur documentary!
 Documentary Title: BBC&#039;s Walking With Dinosaurs Episode 3: Band of Br
 others (PG Mild Violence)Utah, 130 million years ago. A band of armored di
 nosaurs battle to reach adulthood, pursued by some of the most formidable 
 predators that have ever lived: utahraptors. It’s a deadly game of cat a
 nd mouse that pits heavy armor against vicious claws and lethal cunning; a
  life-and-death struggle that builds to a final showdown amongst the flame
 s of a burning forest!No registration required.
URL:https://baldwinpl.librarycalendar.com/event/dino-documentary-6243
END:VEVENT
END:VCALENDAR
