BEGIN:VCALENDAR
VERSION:2.0
PRODID:-//Library Market//iCal Export//EN
BEGIN:VEVENT
SUMMARY:Dino Documentary!
UID:6242
DTSTAMP:20260423T200800Z
DTSTART:20260622T160000Z
DTEND:20260622T170000Z
LOCATION:Baldwin Borough Public Library, 5230 Wolfe Dr, Pittsburgh, PA 152
 36, United States
ROOM: Dino Documentary!
DESCRIPTION:Get ready for dino-mite Mondays at the Baldwin Library! Each w
 eek during Summer Reading, we&#039;ll be screening a dinosaur documentary!
 Documentary Title: BBC&#039;s Walking With Dinosaurs Episode 1: The Orphan
  (PG Mild Violence)Sixty-six million years ago, an orphaned baby tricerato
 ps roamed the lush world of Laramidia, alone and vulnerable. Stalked by th
 e fearsome Tyrannosaurus Rex, the youngster relied on her wits and diminut
 ive size to survive. Today, paleontologists in Montana are uncovering her 
 fossils, allowing us to imagine her life and the dangers she faced. Stunni
 ng VFX recreate her encounters, from escaping a giant pterosaur to a heart
 -stopping face-off with T. Rex, bringing her story vividly to life!No regi
 stration required.
URL:https://baldwinpl.librarycalendar.com/event/dino-documentary-6242
END:VEVENT
END:VCALENDAR
