BEGIN:VCALENDAR
VERSION:2.0
PRODID:-//Library Market//iCal Export//EN
BEGIN:VEVENT
SUMMARY:Dino Documentary!
UID:6241
DTSTAMP:20260423T200800Z
DTSTART:20260615T160000Z
DTEND:20260615T170000Z
LOCATION:Baldwin Borough Public Library, 5230 Wolfe Dr, Pittsburgh, PA 152
 36, United States
ROOM: Dino Documentary!
DESCRIPTION:Get ready for dino-mite Mondays at the Baldwin Library! Each w
 eek during Summer Reading, we&#039;ll be screening a dinosaur documentary!
 Documentary Title: PBS Why Dinosaurs? (PG Mild Violence)From prestigious m
 useums and universities, to blockbuster films and toys--dinosaurs have alw
 ays fascinated us. But, why? Join dino-obsessed teen James Pinto and his f
 ilmmaker father as they interview world-renowned paleontologists, track do
 wn the crew behind Jurassic Park, dig up 150 million-year-old bones, and a
 ttempt to discover why everybody loves dinosaurs!No registration required.
URL:https://baldwinpl.librarycalendar.com/event/dino-documentary-6241
END:VEVENT
END:VCALENDAR
