BEGIN:VCALENDAR
VERSION:2.0
PRODID:-//Library Market//iCal Export//EN
BEGIN:VEVENT
SUMMARY:Saturday Matinee
UID:6222
DTSTAMP:20260419T200200Z
DTSTART:20260613T170000Z
DTEND:20260613T193000Z
LOCATION:Baldwin Borough Public Library, 5230 Wolfe Dr, Pittsburgh, PA 152
 36, United States
ROOM: Program Room
DESCRIPTION:Want to see a movie for free? Well the Baldwin Library is the 
 place for you! Once a month we show a newly released movie or a fan favori
 te. We hope you can join!Movie Title: NurembergMovie Rating: PG-13Popcorn 
 and refreshments will be provided.No registration required.
URL:https://baldwinpl.librarycalendar.com/event/saturday-matinee-6222
END:VEVENT
END:VCALENDAR
