BEGIN:VCALENDAR
VERSION:2.0
PRODID:-//Library Market//iCal Export//EN
BEGIN:VEVENT
SUMMARY:Watch it Wednesday!
UID:6221
DTSTAMP:20260419T200200Z
DTSTART:20260617T170000Z
DTEND:20260617T190000Z
LOCATION:Baldwin Borough Public Library, 5230 Wolfe Dr, Pittsburgh, PA 152
 36, United States
ROOM: Program Room
DESCRIPTION:It’s a watchful Wednesday here at the Baldwin Library! Relax
  mid way through your week by enjoying a fan favorite movie!Movie Title: C
 yranoMovie Rating: PG-13Popcorn and refreshments will be provided.No regis
 tration required.
URL:https://baldwinpl.librarycalendar.com/event/watch-it-wednesday-6221
END:VEVENT
END:VCALENDAR
