BEGIN:VCALENDAR
VERSION:2.0
PRODID:-//Library Market//iCal Export//EN
BEGIN:VEVENT
SUMMARY:Secret Life of Roots
UID:6219
DTSTAMP:20260420T100600Z
DTSTART:20260724T170000Z
DTEND:20260724T180000Z
LOCATION:Baldwin Borough Public Library, 5230 Wolfe Dr, Pittsburgh, PA 152
 36, United States
ROOM: Program Room
DESCRIPTION:What’s happening below-ground in the lives of trees? We will
  shed light on some of the wonders of tree roots, and their connections to
  other living things. We’ll explore the superpowers that roots gift tree
 s, and then conduct an experiment to see how trees on slopes might help us
  in hilly Pittsburgh.Recommend for Ages 6-17Kids 14 &amp; under must be ac
 companied by an adult 18+.Registration required.
URL:https://baldwinpl.librarycalendar.com/event/secret-life-roots-6219
END:VEVENT
END:VCALENDAR
