BEGIN:VCALENDAR
VERSION:2.0
PRODID:-//Library Market//iCal Export//EN
BEGIN:VEVENT
SUMMARY:Habitat Hunt!
UID:6204
DTSTAMP:20260419T200200Z
DTSTART:20260707T143000Z
DTEND:20260707T153000Z
LOCATION:Baldwin Borough Public Library, 5230 Wolfe Dr, Pittsburgh, PA 152
 36, United States
ROOM: Program Room
DESCRIPTION:Join the Shade Tree Commission at BBPL to explore what a habit
 at is and its benefits for living creatures. Young children will learn abo
 ut local habitats, the creatures that inhabit them, and how these environm
 ents support life. This program encourages children to expand their curios
 ity and understand connections in the natural world.Recommended for Ages 6
 -12Kids 14 &amp; under must be accompanied by an adult 18+.Registration re
 quired.
URL:https://baldwinpl.librarycalendar.com/event/habitat-hunt-6204
END:VEVENT
END:VCALENDAR
