BEGIN:VCALENDAR
VERSION:2.0
PRODID:-//Library Market//iCal Export//EN
BEGIN:VEVENT
SUMMARY:Walk to a Dinosaur Tree
UID:6201
DTSTAMP:20260419T200200Z
DTSTART:20260626T170000Z
DTEND:20260626T180000Z
LOCATION:Baldwin Borough Public Library, 5230 Wolfe Dr, Pittsburgh, PA 152
 36, United States
ROOM: Program Room
DESCRIPTION:Join the Shade Tree Commission for a walk around the Baldwin L
 ibrary to explore trees with ancestors from the Triassic, Jurassic, and Cr
 etaceous periods.What to Expect: Nature walk around the Baldwin Library!R
 ead aloud about different types of dinosaurs, asking about the food each t
 ype likes to eat.Group Discussion about how much food plant-eating dinosau
 rs need to live and where might they find that food. Leaf rubbing craft!A
 ll ages are welcomed!Kids 14 &amp; under must be accompanied by an adult 1
 8+.Registration required.
URL:https://baldwinpl.librarycalendar.com/event/walk-dinosaur-tree-6201
END:VEVENT
END:VCALENDAR
